BEGIN:VCALENDAR
VERSION:2.0
PRODID:-//Nexgro - ECPv6.10.1.1//NONSGML v1.0//EN
CALSCALE:GREGORIAN
METHOD:PUBLISH
X-WR-CALNAME:Nexgro
X-ORIGINAL-URL:https://www.nexgro.co.za
X-WR-CALDESC:Events for Nexgro
REFRESH-INTERVAL;VALUE=DURATION:PT1H
X-Robots-Tag:noindex
X-PUBLISHED-TTL:PT1H
BEGIN:VTIMEZONE
TZID:Africa/Johannesburg
BEGIN:STANDARD
TZOFFSETFROM:+0200
TZOFFSETTO:+0200
TZNAME:SAST
DTSTART:20250101T000000
END:STANDARD
END:VTIMEZONE
BEGIN:VEVENT
DTSTART;VALUE=DATE:20260427
DTEND;VALUE=DATE:20260428
DTSTAMP:20260422T034643
CREATED:20260421T085835Z
LAST-MODIFIED:20260421T085835Z
UID:2596-1777248000-1777334399@www.nexgro.co.za
SUMMARY:Freedom Day
DESCRIPTION:
URL:https://www.nexgro.co.za/event/freedom-day/
END:VEVENT
BEGIN:VEVENT
DTSTART;TZID=Africa/Johannesburg:20250219T080000
DTEND;TZID=Africa/Johannesburg:20250219T170000
DTSTAMP:20260422T034643
CREATED:20250217T102140Z
LAST-MODIFIED:20250217T102140Z
UID:1326-1739952000-1739984400@www.nexgro.co.za
SUMMARY:event one
DESCRIPTION:event description one.!
URL:https://www.nexgro.co.za/event/event-one/
END:VEVENT
END:VCALENDAR